BEGIN:VCALENDAR
VERSION:2.0
PRODID:-//Tukios.com/
BEGIN:VEVENT
UID:3ef23918-bbf7-4f28-a525-23802c59e476@www.bozellfuneralhomes.com
DTSTAMP:20260423T175544Z
DTSTART:20260502T180000Z
DTEND:20260502T200000Z
SUMMARY:Memorial Gathering
DESCRIPTION:
URL:https://www.bozellfuneralhomes.com/obituaries/marsha-skirvin
LOCATION:Bozell Funeral Homes and Crematory, Lahm Chapel 211 East State 
	Street  Pendleton IN 46064
GEO:40.0027966;-85.7437154
END:VEVENT
END:VCALENDAR