BEGIN:VCALENDAR
VERSION:2.0
PRODID:-//Tukios.com/
BEGIN:VEVENT
UID:7b7bc836-bbcf-4934-8ffe-56f48e446874@www.bozellfuneralhomes.com
DTSTAMP:20260420T220055Z
DTSTART:20260423T170000Z
DTEND:20260423T180000Z
SUMMARY:Graveside Service
DESCRIPTION:
URL:https://www.bozellfuneralhomes.com/obituaries/jeanne-brundage
LOCATION:Anderson Memorial Park 6805 Doctor Martin Luther King Junior 
	Boulevard  Anderson IN 46013
GEO:40.0440609;-85.7264188
END:VEVENT
END:VCALENDAR