BEGIN:VCALENDAR
VERSION:2.0
PRODID:-//Tukios.com/
BEGIN:VEVENT
UID:20dfab28-70b2-45ff-a29c-10cbf74c3fb6@www.bozellfuneralhomes.com
DTSTAMP:20260423T005632Z
DTSTART:20260430T170000Z
DTEND:20260430T180000Z
SUMMARY:Graveside Service
DESCRIPTION:
URL:https://www.bozellfuneralhomes.com/obituaries/diane-lawther
LOCATION:Brookside Cemetery 2900 South Brookside Road  Lapel IN 46051
GEO:40.0608617;-85.8534255
END:VEVENT
END:VCALENDAR