BEGIN:VCALENDAR
VERSION:2.0
PRODID:-//Tukios.com/
BEGIN:VEVENT
UID:a4680ede-1bd5-4dd6-bc9e-4830b5c2f2e7@www.bozellfuneralhomes.com
DTSTAMP:20260421T221556Z
DTSTART:20260423T183000Z
DTEND:20260423T193000Z
SUMMARY:Funeral Service
DESCRIPTION:
URL:https://www.bozellfuneralhomes.com/obituaries/connie-markwell-ahlers
LOCATION: 515 East 53rd Street  Anderson IN 46013
GEO:40.0611182;-85.6725669
END:VEVENT
END:VCALENDAR