BEGIN:VCALENDAR
VERSION:2.0
PRODID:-//Tukios.com/
BEGIN:VEVENT
UID:f4bf923c-572c-4055-b912-5dbf0d1af448@www.bozellfuneralhomes.com
DTSTAMP:20260421T221258Z
DTSTART:20260423T163000Z
DTEND:20260423T183000Z
SUMMARY:Viewing
DESCRIPTION:
URL:https://www.bozellfuneralhomes.com/obituaries/connie-markwell-ahlers
LOCATION: 515 East 53rd Street  Anderson IN 46013
GEO:40.0611182;-85.6725669
END:VEVENT
END:VCALENDAR