BEGIN:VCALENDAR
VERSION:2.0
PRODID:-//Tukios.com/
BEGIN:VEVENT
UID:4ad7e686-db4b-499f-92c2-77f00da4f37f@www.bozellfuneralhomes.com
DTSTAMP:20260420T201111Z
DTSTART:20260422T160000Z
DTEND:20260422T170000Z
SUMMARY:Funeral Service
DESCRIPTION:
URL:https://www.bozellfuneralhomes.com/obituaries/cathy-matney
LOCATION: 515 East 53rd Street  Anderson IN 46013
GEO:40.0611182;-85.6725669
END:VEVENT
END:VCALENDAR