BEGIN:VCALENDAR
VERSION:2.0
PRODID:-//Tukios.com/
BEGIN:VEVENT
UID:98cae044-1293-4481-9b3c-52c35b5727ce@www.bozellfuneralhomes.com
DTSTAMP:20260420T201418Z
DTSTART:20260422T150000Z
DTEND:20260422T160000Z
SUMMARY:Visitation
DESCRIPTION:
URL:https://www.bozellfuneralhomes.com/obituaries/cathy-matney
LOCATION: 515 East 53rd Street  Anderson IN 46013
GEO:40.0611182;-85.6725669
END:VEVENT
END:VCALENDAR